BEGIN:VCALENDAR
VERSION:2.0
PRODID:-//We Run Edinburgh - ECPv6.3.3//NONSGML v1.0//EN
CALSCALE:GREGORIAN
METHOD:PUBLISH
X-WR-CALNAME:We Run Edinburgh
X-ORIGINAL-URL:https://werunedinburgh.com
X-WR-CALDESC:Events for We Run Edinburgh
REFRESH-INTERVAL;VALUE=DURATION:PT1H
X-Robots-Tag:noindex
X-PUBLISHED-TTL:PT1H
BEGIN:VTIMEZONE
TZID:UTC
BEGIN:STANDARD
TZOFFSETFROM:+0000
TZOFFSETTO:+0000
TZNAME:UTC
DTSTART:20240101T000000
END:STANDARD
END:VTIMEZONE
BEGIN:VEVENT
DTSTART;TZID=UTC:20240703T183000
DTEND;TZID=UTC:20240703T193000
DTSTAMP:20260421T121234
CREATED:20240623T074327Z
LAST-MODIFIED:20240623T074333Z
UID:4159-1720031400-1720035000@werunedinburgh.com
SUMMARY:Wednesday Social Run
DESCRIPTION:Join us for our free weekly Wednesday social run. \nWe always have a 5k on offer. Most weeks we’ll also have a 7k or we’ll mix up the distance\, speed or terrain to keep things interesting. \nAll runs have a front runner and a back runner\, meaning we’ll keep everyone together. No one goes behind the back runner\, regardless of their pace\, so you do you and we’ll guide you safely through the streets of Edinburgh. \nSocial runs are the place for a PB. So leave any record attempts at home\, bring your best chat and get to know the wonderful women who are part of We Run Edinburgh. \nLocation\nMeet outside St. Mary’s Church at York Place\, i.e. at the back of St. James Quarter/John Lewis entrance. \nThe What3Words location is: :///town.softly.race \n  \n>> Find out more about the Wednesday social run
URL:https://werunedinburgh.com/event/wednesday-social-run-2-2-2-2-2-2-2/
CATEGORIES:Social Run
ORGANIZER;CN="We Run Edinburgh":MAILTO:hello@werunedinburgh.com
END:VEVENT
END:VCALENDAR