BEGIN:VCALENDAR
VERSION:2.0
PRODID:-//We Run Edinburgh - ECPv6.3.3//NONSGML v1.0//EN
CALSCALE:GREGORIAN
METHOD:PUBLISH
X-ORIGINAL-URL:https://werunedinburgh.com
X-WR-CALDESC:Events for We Run Edinburgh
REFRESH-INTERVAL;VALUE=DURATION:PT1H
X-Robots-Tag:noindex
X-PUBLISHED-TTL:PT1H
BEGIN:VTIMEZONE
TZID:UTC
BEGIN:STANDARD
TZOFFSETFROM:+0000
TZOFFSETTO:+0000
TZNAME:UTC
DTSTART:20240101T000000
END:STANDARD
END:VTIMEZONE
BEGIN:VEVENT
DTSTART;TZID=UTC:20250104T091500
DTEND;TZID=UTC:20250104T101500
DTSTAMP:20260421T104706
CREATED:20250102T094752Z
LAST-MODIFIED:20250102T094752Z
UID:4278-1735982100-1735985700@werunedinburgh.com
SUMMARY:Saturday morning coffee run - Meadows
DESCRIPTION:Join us for our free Saturday morning coffee run \nStart your weekend with a relaxed 6km\, coffee and maybe a pastry.  \nOur Saturday coffee runs happen every two weeks at alternating meet up points (Leith and the Meadows).   There’s no need to sign up or register for the coffee run\, simply turn up. \nLocation – The Meadows\nMeet up point: Bottom of Middle Meadow Walk \nWhat3Words: ///cloth.minus.pint \nThe Coffee: TBC but a coffee place nearby the stat point. \n>> Find out more about the Saturday coffee run
URL:https://werunedinburgh.com/event/saturday-morning-coffee-run-4-1-25/
CATEGORIES:Social Run
END:VEVENT
BEGIN:VEVENT
DTSTART;TZID=UTC:20240914T084500
DTEND;TZID=UTC:20240914T100000
DTSTAMP:20260421T104706
CREATED:20240729T064141Z
LAST-MODIFIED:20240729T064141Z
UID:4197-1726303500-1726308000@werunedinburgh.com
SUMMARY:Saturday morning coffee run - Meadows
DESCRIPTION:Join us for our free Saturday morning coffee run \nStart your weekend with a relaxed 6km\, coffee and maybe a pastry.  \nOur Saturday coffee runs happen every two weeks at alternating meet up points (Leith and the Meadows).   There’s no need to sign up or register for the coffee run\, simply turn up. \nLocation – The Meadows\nMeet up point: Bottom of Middle Meadow Walk \nWhat3Words: ///cloth.minus.pint \nThe Coffee: TBC but a coffee place nearby the stat point. \n>> Find out more about the Saturday coffee run
URL:https://werunedinburgh.com/event/saturday-morning-coffee-run-leith-3-2/
CATEGORIES:Social Run
END:VEVENT
BEGIN:VEVENT
DTSTART;TZID=UTC:20240831T084500
DTEND;TZID=UTC:20240831T100000
DTSTAMP:20260421T104706
CREATED:20240329T080857Z
LAST-MODIFIED:20240729T063819Z
UID:4016-1725093900-1725098400@werunedinburgh.com
SUMMARY:Saturday morning coffee run - Leith
DESCRIPTION:Join us for our free Saturday morning coffee run \nStart your weekend with a relaxed 6km\, coffee and maybe a pastry.  \nOur Saturday coffee runs happen every two weeks at alternating meet up points (Leith and the Meadows).   There’s no need to sign up or register for the coffee run\, simply turn up. \nLocation – Leith Links\nMeet up point: Leith Links at the bottom of Easter Road. \nWhat3Words: ///tins.lots.brain \nThe Coffee: We finish at William and Johnson at Customs Wharf. \n  \n>> Find out more about the Saturday coffee run
URL:https://werunedinburgh.com/event/saturday-morning-coffee-run-leith/
CATEGORIES:Social Run
END:VEVENT
BEGIN:VEVENT
DTSTART;TZID=UTC:20240828T183000
DTEND;TZID=UTC:20240828T203000
DTSTAMP:20260421T104706
CREATED:20240729T063404Z
LAST-MODIFIED:20240729T063404Z
UID:4191-1724869800-1724877000@werunedinburgh.com
SUMMARY:August Adventures - Porty Pizza Party
DESCRIPTION:In August we take a break from our city centre socials to let the festival do its thing. But\, for those of you who want to keep up the Wednesday routine and are looking for a mid-week adventure\, then we have a fun four weeks of road and trail runs across the month. \nWe’ll add more details to this event soon\, but for now – save the date!
URL:https://werunedinburgh.com/event/august-adventures-porty-pizza-party/
CATEGORIES:Social Run
END:VEVENT
BEGIN:VEVENT
DTSTART;TZID=UTC:20240821T183000
DTEND;TZID=UTC:20240821T203000
DTSTAMP:20260421T104706
CREATED:20240729T063321Z
LAST-MODIFIED:20240729T063321Z
UID:4189-1724265000-1724272200@werunedinburgh.com
SUMMARY:August Adventures - Dalmeny
DESCRIPTION:In August we take a break from our city centre socials to let the festival do its thing. But\, for those of you who want to keep up the Wednesday routine and are looking for a mid-week adventure\, then we have a fun four weeks of road and trail runs across the month. \nWe’ll add more details to this event soon\, but for now – save the date!
URL:https://werunedinburgh.com/event/august-adventures-dalmeny/
CATEGORIES:Social Run
END:VEVENT
BEGIN:VEVENT
DTSTART;TZID=UTC:20240817T084500
DTEND;TZID=UTC:20240817T100000
DTSTAMP:20260421T104706
CREATED:20240729T064041Z
LAST-MODIFIED:20240729T064041Z
UID:4195-1723884300-1723888800@werunedinburgh.com
SUMMARY:Saturday morning coffee run - Meadows
DESCRIPTION:Join us for our free Saturday morning coffee run \nStart your weekend with a relaxed 6km\, coffee and maybe a pastry.  \nOur Saturday coffee runs happen every two weeks at alternating meet up points (Leith and the Meadows).   There’s no need to sign up or register for the coffee run\, simply turn up. \nLocation – The Meadows\nMeet up point: Bottom of Middle Meadow Walk \nWhat3Words: ///cloth.minus.pint \nThe Coffee: TBC but a coffee place nearby the stat point. \n>> Find out more about the Saturday coffee run
URL:https://werunedinburgh.com/event/saturday-morning-coffee-run-leith-3/
CATEGORIES:Social Run
END:VEVENT
BEGIN:VEVENT
DTSTART;TZID=UTC:20240814T183000
DTEND;TZID=UTC:20240814T203000
DTSTAMP:20260421T104706
CREATED:20240729T063245Z
LAST-MODIFIED:20240729T063245Z
UID:4187-1723660200-1723667400@werunedinburgh.com
SUMMARY:August Adventures - Musselburgh
DESCRIPTION:In August we take a break from our city centre socials to let the festival do its thing. But\, for those of you who want to keep up the Wednesday routine and are looking for a mid-week adventure\, then we have a fun four weeks of road and trail runs across the month. \nWe’ll add more details to this event soon\, but for now – save the date!
URL:https://werunedinburgh.com/event/august-adventures-musselburgh/
CATEGORIES:Social Run
END:VEVENT
BEGIN:VEVENT
DTSTART;TZID=UTC:20240807T183000
DTEND;TZID=UTC:20240807T203000
DTSTAMP:20260421T104706
CREATED:20240729T062851Z
LAST-MODIFIED:20240729T063145Z
UID:4183-1723055400-1723062600@werunedinburgh.com
SUMMARY:August Adventures - Water of Leith
DESCRIPTION:In August we take a break from our city centre socials to let the festival do its thing. But\, for those of you who want to keep up the Wednesday routine and are looking for a mid-week adventure\, then we have a fun four weeks of road and trail runs across the month. \nWe’ll add more details to this event soon\, but for now – save the date!
URL:https://werunedinburgh.com/event/august-adventures-water-of-leith/
CATEGORIES:Social Run
END:VEVENT
BEGIN:VEVENT
DTSTART;TZID=UTC:20240803T084500
DTEND;TZID=UTC:20240803T100000
DTSTAMP:20260421T104706
CREATED:20240729T063709Z
LAST-MODIFIED:20240729T063709Z
UID:4193-1722674700-1722679200@werunedinburgh.com
SUMMARY:Saturday morning coffee run - Leith
DESCRIPTION:Join us for our free Saturday morning coffee run \nStart your weekend with a relaxed 6km\, coffee and maybe a pastry.  \nOur Saturday coffee runs happen every two weeks at alternating meet up points (Leith and the Meadows).   There’s no need to sign up or register for the coffee run\, simply turn up. \nLocation – Leith Links\nMeet up point: Leith Links at the bottom of Easter Road. \nWhat3Words: ///tins.lots.brain \nThe Coffee: We finish at William and Johnson at Customs Wharf. \n  \n>> Find out more about the Saturday coffee run
URL:https://werunedinburgh.com/event/saturday-morning-coffee-run-leith-2/
CATEGORIES:Social Run
END:VEVENT
BEGIN:VEVENT
DTSTART;TZID=UTC:20240731T183000
DTEND;TZID=UTC:20240731T193000
DTSTAMP:20260421T104706
CREATED:20240623T073822Z
LAST-MODIFIED:20240623T073837Z
UID:4154-1722450600-1722454200@werunedinburgh.com
SUMMARY:Wednesday Social Run
DESCRIPTION:Join us for our free weekly Wednesday social run. \nWe always have a 5k on offer. Most weeks we’ll also have a 7k or we’ll mix up the distance\, speed or terrain to keep things interesting. \nAll runs have a front runner and a back runner\, meaning we’ll keep everyone together. No one goes behind the back runner\, regardless of their pace\, so you do you and we’ll guide you safely through the streets of Edinburgh. \nSocial runs are the place for a PB. So leave any record attempts at home\, bring your best chat and get to know the wonderful women who are part of We Run Edinburgh. \nLocation\nMeet outside St. Mary’s Church at York Place\, i.e. at the back of St. James Quarter/John Lewis entrance. \nThe What3Words location is: :///town.softly.race \n  \n>> Find out more about the Wednesday social run
URL:https://werunedinburgh.com/event/wednesday-social-run-2-2-2-2-2-2/
CATEGORIES:Social Run
ORGANIZER;CN="We Run Edinburgh":MAILTO:hello@werunedinburgh.com
END:VEVENT
BEGIN:VEVENT
DTSTART;TZID=UTC:20240717T183000
DTEND;TZID=UTC:20240717T193000
DTSTAMP:20260421T104706
CREATED:20240623T073803Z
LAST-MODIFIED:20240623T073803Z
UID:4152-1721241000-1721244600@werunedinburgh.com
SUMMARY:Wednesday Social Run
DESCRIPTION:Join us for our free weekly Wednesday social run. \nWe always have a 5k on offer. Most weeks we’ll also have a 7k or we’ll mix up the distance\, speed or terrain to keep things interesting. \nAll runs have a front runner and a back runner\, meaning we’ll keep everyone together. No one goes behind the back runner\, regardless of their pace\, so you do you and we’ll guide you safely through the streets of Edinburgh. \nSocial runs are the place for a PB. So leave any record attempts at home\, bring your best chat and get to know the wonderful women who are part of We Run Edinburgh. \nLocation\nMeet outside St. Mary’s Church at York Place\, i.e. at the back of St. James Quarter/John Lewis entrance. \nThe What3Words location is: :///town.softly.race \n  \n>> Find out more about the Wednesday social run
URL:https://werunedinburgh.com/event/wednesday-social-run-2-2-2-2-2/
CATEGORIES:Social Run
ORGANIZER;CN="We Run Edinburgh":MAILTO:hello@werunedinburgh.com
END:VEVENT
BEGIN:VEVENT
DTSTART;TZID=UTC:20240710T183000
DTEND;TZID=UTC:20240710T193000
DTSTAMP:20260421T104706
CREATED:20240329T080231Z
LAST-MODIFIED:20240623T073742Z
UID:4006-1720636200-1720639800@werunedinburgh.com
SUMMARY:Wednesday Social Run
DESCRIPTION:Join us for our free weekly Wednesday social run. \nWe always have a 5k on offer. Most weeks we’ll also have a 7k or we’ll mix up the distance\, speed or terrain to keep things interesting. \nAll runs have a front runner and a back runner\, meaning we’ll keep everyone together. No one goes behind the back runner\, regardless of their pace\, so you do you and we’ll guide you safely through the streets of Edinburgh. \nSocial runs are the place for a PB. So leave any record attempts at home\, bring your best chat and get to know the wonderful women who are part of We Run Edinburgh. \nLocation\nMeet outside St. Mary’s Church at York Place\, i.e. at the back of St. James Quarter/John Lewis entrance. \nThe What3Words location is: :///town.softly.race \n  \n>> Find out more about the Wednesday social run
URL:https://werunedinburgh.com/event/wednesday-social-run-2-2-2-2/
CATEGORIES:Social Run
ORGANIZER;CN="We Run Edinburgh":MAILTO:hello@werunedinburgh.com
END:VEVENT
BEGIN:VEVENT
DTSTART;TZID=UTC:20240703T183000
DTEND;TZID=UTC:20240703T193000
DTSTAMP:20260421T104706
CREATED:20240623T074327Z
LAST-MODIFIED:20240623T074333Z
UID:4159-1720031400-1720035000@werunedinburgh.com
SUMMARY:Wednesday Social Run
DESCRIPTION:Join us for our free weekly Wednesday social run. \nWe always have a 5k on offer. Most weeks we’ll also have a 7k or we’ll mix up the distance\, speed or terrain to keep things interesting. \nAll runs have a front runner and a back runner\, meaning we’ll keep everyone together. No one goes behind the back runner\, regardless of their pace\, so you do you and we’ll guide you safely through the streets of Edinburgh. \nSocial runs are the place for a PB. So leave any record attempts at home\, bring your best chat and get to know the wonderful women who are part of We Run Edinburgh. \nLocation\nMeet outside St. Mary’s Church at York Place\, i.e. at the back of St. James Quarter/John Lewis entrance. \nThe What3Words location is: :///town.softly.race \n  \n>> Find out more about the Wednesday social run
URL:https://werunedinburgh.com/event/wednesday-social-run-2-2-2-2-2-2-2/
CATEGORIES:Social Run
ORGANIZER;CN="We Run Edinburgh":MAILTO:hello@werunedinburgh.com
END:VEVENT
END:VCALENDAR