BEGIN:VCALENDAR
VERSION:2.0
PRODID:-//We Run Edinburgh - ECPv6.3.3//NONSGML v1.0//EN
CALSCALE:GREGORIAN
METHOD:PUBLISH
X-WR-CALNAME:We Run Edinburgh
X-ORIGINAL-URL:https://werunedinburgh.com
X-WR-CALDESC:Events for We Run Edinburgh
REFRESH-INTERVAL;VALUE=DURATION:PT1H
X-Robots-Tag:noindex
X-PUBLISHED-TTL:PT1H
BEGIN:VTIMEZONE
TZID:UTC
BEGIN:STANDARD
TZOFFSETFROM:+0000
TZOFFSETTO:+0000
TZNAME:UTC
DTSTART:20250101T000000
END:STANDARD
END:VTIMEZONE
BEGIN:VEVENT
DTSTART;TZID=UTC:20250114T183000
DTEND;TZID=UTC:20250114T193000
DTSTAMP:20260422T000756
CREATED:20250102T094946Z
LAST-MODIFIED:20250102T094946Z
UID:4282-1736879400-1736883000@werunedinburgh.com
SUMMARY:Course Starts: The 10K Club
DESCRIPTION:PAID COURSE: The 10K Club \nOur 10km club is about building on the foundations of your 5km and training to run 10K with confidence. \nWe’ll show you how to go a little further with confidence and start to play around with the streets and routes that Edinburgh has to offer. Our groups are also about supporting each other through the sessions and creating a network of other runners you can get outside with. \nFind out more and sign up
URL:https://werunedinburgh.com/event/course-the-10k-club-starts-jan-2025/
CATEGORIES:Course
ORGANIZER;CN="We Run Edinburgh":MAILTO:hello@werunedinburgh.com
END:VEVENT
END:VCALENDAR