BEGIN:VCALENDAR
VERSION:2.0
PRODID:-//We Run Edinburgh - ECPv6.3.3//NONSGML v1.0//EN
CALSCALE:GREGORIAN
METHOD:PUBLISH
X-ORIGINAL-URL:https://werunedinburgh.com
X-WR-CALDESC:Events for We Run Edinburgh
REFRESH-INTERVAL;VALUE=DURATION:PT1H
X-Robots-Tag:noindex
X-PUBLISHED-TTL:PT1H
BEGIN:VTIMEZONE
TZID:UTC
BEGIN:STANDARD
TZOFFSETFROM:+0000
TZOFFSETTO:+0000
TZNAME:UTC
DTSTART:20250101T000000
END:STANDARD
END:VTIMEZONE
BEGIN:VEVENT
DTSTART;TZID=UTC:20250111T090000
DTEND;TZID=UTC:20250111T100000
DTSTAMP:20260422T000929
CREATED:20250102T094859Z
LAST-MODIFIED:20250102T095025Z
UID:4280-1736586000-1736589600@werunedinburgh.com
SUMMARY:Course Starts: New Runners starts
DESCRIPTION:PAID COURSE: New Runners \nREADY TO LACE UP THE TRAINERS? \nThe WRE New Runners course is designed to introduce complete beginners and support fledgling runners to a regular running routine. \nFind out more and sign up
URL:https://werunedinburgh.com/event/course-the-new-runners-starts-jan-2025/
CATEGORIES:Course
ORGANIZER;CN="We Run Edinburgh":MAILTO:hello@werunedinburgh.com
END:VEVENT
END:VCALENDAR